BEGIN:VCALENDAR
VERSION:2.0
PRODID:-//STADTKULTUR HAMBURG//kultur-hamburg.de///DE
CALSCALE:GREGORIAN
BEGIN:VEVENT
X-WR-TIMEZONE:Europe/Berlin
DTSTART:20130820T100000
DTEND:20131029T120000
LOCATION:Ev. Familienbildung Eppendorf \, Loogeplatz 14/16 \, 20249 Hamburg
DTSTAMP:20260425T154833
SUMMARY:Kalligraphie
URL;VALUE=URI:https://www.kultur-hamburg.de/kurse_workshops/kalligraphie-116209
DESCRIPTION:Das faszinierende Zusammenspiel von Papier, Farben und Schreibgerät erleben Sie bei der Beschäftigung mit einer historischen Schrift.
UID:2555d1eb57c38fd3c7276380051c4ea9@kulturhamburg
END:VEVENT
END:VCALENDAR