BEGIN:VCALENDAR
VERSION:2.0
PRODID:-//STADTKULTUR HAMBURG//kultur-hamburg.de///DE
CALSCALE:GREGORIAN
BEGIN:VEVENT
X-WR-TIMEZONE:Europe/Berlin
DTSTART:20130826T100000
DTEND:20131111T120000
LOCATION:Ev. Familienbildung Eppendorf \, Loogeplatz 14/16 \, 20249 Hamburg
DTSTAMP:20260425T142608
SUMMARY:Aquarell und Eitempera
URL;VALUE=URI:https://www.kultur-hamburg.de/kurse_workshops/aquarell-und-eitempera-116221
DESCRIPTION:Diese beiden Maltechniken besitzen höchste Eigenschaft um hohe Farbbrillianz und Farbtiefe zu erzeugen. Im Kurs wird gezeigt, wie eine Eitemperafarbe selbst hergestellt und vermalt wird.
UID:e6080245624f73b3fa9796c2e6107abe@kulturhamburg
END:VEVENT
END:VCALENDAR