BEGIN:VCALENDAR
VERSION:2.0
PRODID:-//STADTKULTUR HAMBURG//kultur-hamburg.de///DE
CALSCALE:GREGORIAN
BEGIN:VEVENT
X-WR-TIMEZONE:Europe/Berlin
DTSTART:20130805T180000
DTEND:20131024T193000
LOCATION:Ev. Familienbildung Eppendorf \, Loogeplatz 14/16 \, 20249 Hamburg
DTSTAMP:20260425T191430
SUMMARY:Spanisch intensiv
URL;VALUE=URI:https://www.kultur-hamburg.de/kurse_workshops/spanisch-intensiv-116234
DESCRIPTION:Für AnfängerInnen zur Erreichung des Basisniveaus
Wollen Sie Spanisch von Grund auf lernen? 
Möchten Sie sich im spanisch sprachigen Ausland als Tourist oder beruflich verständigen?
UID:17ffab54bff842b735832125b0cf02ad@kulturhamburg
END:VEVENT
END:VCALENDAR