BEGIN:VCALENDAR
VERSION:2.0
PRODID:-//STADTKULTUR HAMBURG//kultur-hamburg.de///DE
CALSCALE:GREGORIAN
BEGIN:VEVENT
X-WR-TIMEZONE:Europe/Berlin
DTSTART:20130904T160000
DTEND:20130904T180000
LOCATION:Bramfelder Kulturladen e. V. - BRAKULA \, Bramfelder Chaussee 265 \, 22177 Hamburg
DTSTAMP:20260423T121411
SUMMARY:Keyboard für Kinder
URL;VALUE=URI:https://www.kultur-hamburg.de/kurse_workshops/keyboard-fuer-kinder-116286
DESCRIPTION:
UID:af2318414214817790a76c5fa457b4da@kulturhamburg
END:VEVENT
END:VCALENDAR