BEGIN:VCALENDAR
VERSION:2.0
PRODID:-//STADTKULTUR HAMBURG//kultur-hamburg.de///DE
CALSCALE:GREGORIAN
BEGIN:VEVENT
X-WR-TIMEZONE:Europe/Berlin
DTSTART:20130911T160000
DTEND:20130911T180000
LOCATION:Bramfelder Kulturladen e. V. - BRAKULA \, Bramfelder Chaussee 265 \, 22177 Hamburg
DTSTAMP:20260423T103524
SUMMARY:Keyboard für Kinder
URL;VALUE=URI:https://www.kultur-hamburg.de/kurse_workshops/keyboard-fuer-kinder-116287
DESCRIPTION:
UID:075b8cf6a08a06ab68b5e013e0cfb5ac@kulturhamburg
END:VEVENT
END:VCALENDAR