BEGIN:VCALENDAR
VERSION:2.0
PRODID:-//STADTKULTUR HAMBURG//kultur-hamburg.de///DE
CALSCALE:GREGORIAN
BEGIN:VEVENT
X-WR-TIMEZONE:Europe/Berlin
DTSTART:20130918T160000
DTEND:20130918T180000
LOCATION:Bramfelder Kulturladen e. V. - BRAKULA \, Bramfelder Chaussee 265 \, 22177 Hamburg
DTSTAMP:20260423T092336
SUMMARY:Keyboard für Kinder
URL;VALUE=URI:https://www.kultur-hamburg.de/kurse_workshops/keyboard-fuer-kinder-116288
DESCRIPTION:
UID:af7987e498ff3eacd59b4353e3d20d5f@kulturhamburg
END:VEVENT
END:VCALENDAR