BEGIN:VCALENDAR
VERSION:2.0
PRODID:-//STADTKULTUR HAMBURG//kultur-hamburg.de///DE
CALSCALE:GREGORIAN
BEGIN:VEVENT
X-WR-TIMEZONE:Europe/Berlin
DTSTART:20131211T160000
DTEND:20131211T180000
LOCATION:Bramfelder Kulturladen e. V. - BRAKULA \, Bramfelder Chaussee 265 \, 22177 Hamburg
DTSTAMP:20260422T124426
SUMMARY:Keyboard für Kinder
URL;VALUE=URI:https://www.kultur-hamburg.de/kurse_workshops/keyboard-fuer-kinder-116300
DESCRIPTION:
UID:1071bc94ee851fb8fde28d9ba564ce23@kulturhamburg
END:VEVENT
END:VCALENDAR