BEGIN:VCALENDAR
VERSION:2.0
PRODID:-//STADTKULTUR HAMBURG//kultur-hamburg.de///DE
CALSCALE:GREGORIAN
BEGIN:VEVENT
X-WR-TIMEZONE:Europe/Berlin
DTSTART:20131218T160000
DTEND:20131218T180000
LOCATION:Bramfelder Kulturladen e. V. - BRAKULA \, Bramfelder Chaussee 265 \, 22177 Hamburg
DTSTAMP:20260422T111507
SUMMARY:Keyboard für Kinder
URL;VALUE=URI:https://www.kultur-hamburg.de/kurse_workshops/keyboard-fuer-kinder-116301
DESCRIPTION:
UID:9ceb7756705258332bf8f291189a6f30@kulturhamburg
END:VEVENT
END:VCALENDAR