BEGIN:VCALENDAR
VERSION:2.0
PRODID:-//STADTKULTUR HAMBURG//kultur-hamburg.de///DE
CALSCALE:GREGORIAN
BEGIN:VEVENT
X-WR-TIMEZONE:Europe/Berlin
DTSTART:20130716T110000
DTEND:20130718T150000
LOCATION:TASK Schauspielschule für Kinder und Jugendliche \, Stresemannstraße 163 (Neue Flora) \, 22769 Hamburg
DTSTAMP:20260426T002534
SUMMARY:Musical-Ferienworkshop für Kinder ab 10 J.
URL;VALUE=URI:https://www.kultur-hamburg.de/kurse_workshops/musical-ferienworkshop-fuer-kinder-ab-10-j.-116451
DESCRIPTION:3 Künste – eine Herausforderung. Die Teilnehmer erwartet viel Spaß bei Theater, Tanz und Gesang und ihrem großen Auftritt!
UID:54fc9d0c5109a6c3be9bb25fa618c2d4@kulturhamburg
END:VEVENT
END:VCALENDAR