BEGIN:VCALENDAR
VERSION:2.0
PRODID:-//STADTKULTUR HAMBURG//kultur-hamburg.de///DE
CALSCALE:GREGORIAN
BEGIN:VEVENT
X-WR-TIMEZONE:Europe/Berlin
DTSTART:20130814T150000
DTEND:20130925T163000
LOCATION:Ev. Familienbildung Blankenese \, Sülldorfer Kirchenweg 1b \, 22587 Hamburg
DTSTAMP:20260425T175107
SUMMARY:Waldgruppe
URL;VALUE=URI:https://www.kultur-hamburg.de/kurse_workshops/waldgruppe-116526
DESCRIPTION:Wo wohnt das Eichhörnchen? Was fressen Igel? Kriegen Bäume Kinder?
UID:4073bc81a9cb58706e6753e8155f9e13@kulturhamburg
END:VEVENT
END:VCALENDAR