BEGIN:VCALENDAR
VERSION:2.0
PRODID:-//STADTKULTUR HAMBURG//kultur-hamburg.de///DE
CALSCALE:GREGORIAN
BEGIN:VEVENT
X-WR-TIMEZONE:Europe/Berlin
DTSTART:20130828T183000
DTEND:20130828T200000
LOCATION:TASK Schauspielschule für Kinder und Jugendliche \, Stresemannstraße 163 (Neue Flora) \, 22769 Hamburg
DTSTAMP:20260425T144627
SUMMARY:Kostenlose Schauspiel-Schnupperstunde für Kinder & Jugendliche - TASK  Hamburg
URL;VALUE=URI:https://www.kultur-hamburg.de/kurse_workshops/kostenlose-schauspiel-schnupperstunde-fuer-kinder-&-jugendliche-task-hamburg-117279
DESCRIPTION:Kinder & Jugendliche, die Lust auf Schauspiel auf der Bühne oder vor der Kamera haben, können sich hier kostenfrei ausprobieren.
UID:0d3e1feb38ecc97207c79e9bc9a1f099@kulturhamburg
END:VEVENT
END:VCALENDAR