BEGIN:VCALENDAR
VERSION:2.0
PRODID:-//STADTKULTUR HAMBURG//kultur-hamburg.de///DE
CALSCALE:GREGORIAN
BEGIN:VEVENT
X-WR-TIMEZONE:Europe/Berlin
DTSTART:20130806T103000
DTEND:20130827T123000
LOCATION:Lola Rogge Schule \, Landwehr 11-13 \, 22087 Hamburg
DTSTAMP:20260425T191626
SUMMARY:LOLA ROGGE SCHULE DIMO WORKSHOPS – PROFITRAINING – OPEN CLASS
URL;VALUE=URI:https://www.kultur-hamburg.de/kurse_workshops/lola-rogge-schule-dimo-workshops--profitraining--open-class-118228
DESCRIPTION:
UID:d2dfe78f6a155bae2ecd82fae2a3f0b1@kulturhamburg
END:VEVENT
END:VCALENDAR