BEGIN:VCALENDAR
VERSION:2.0
PRODID:-//STADTKULTUR HAMBURG//kultur-hamburg.de///DE
CALSCALE:GREGORIAN
BEGIN:VEVENT
X-WR-TIMEZONE:Europe/Berlin
DTSTART:20130912T173000
DTEND:20130912T190000
LOCATION:Bramfelder Kulturladen e. V. - BRAKULA \, Bramfelder Chaussee 265 \, 22177 Hamburg
DTSTAMP:20260423T103743
SUMMARY:Hip Hop
URL;VALUE=URI:https://www.kultur-hamburg.de/kurse_workshops/hip-hop-119788
DESCRIPTION:
UID:50de0cd67b7625b6ac45c820c5dd3d06@kulturhamburg
END:VEVENT
END:VCALENDAR