BEGIN:VCALENDAR
VERSION:2.0
PRODID:-//STADTKULTUR HAMBURG//kultur-hamburg.de///DE
CALSCALE:GREGORIAN
BEGIN:VEVENT
X-WR-TIMEZONE:Europe/Berlin
DTSTART:20130812T174500
DTEND:20130812T194500
LOCATION:Bramfelder Kulturladen e. V. - BRAKULA \, Bramfelder Chaussee 265 \, 22177 Hamburg
DTSTAMP:20260425T175502
SUMMARY:Computer für Anfänger
URL;VALUE=URI:https://www.kultur-hamburg.de/kurse_workshops/computer-fuer-anfaenger-121270
DESCRIPTION:
UID:5f4ba2269f7a01e284f0d70dcb1be42f@kulturhamburg
END:VEVENT
END:VCALENDAR