BEGIN:VCALENDAR
VERSION:2.0
PRODID:-//STADTKULTUR HAMBURG//kultur-hamburg.de///DE
CALSCALE:GREGORIAN
BEGIN:VEVENT
X-WR-TIMEZONE:Europe/Berlin
DTSTART:20130819T174500
DTEND:20130819T194500
LOCATION:Bramfelder Kulturladen e. V. - BRAKULA \, Bramfelder Chaussee 265 \, 22177 Hamburg
DTSTAMP:20260425T160852
SUMMARY:Computer für Anfänger
URL;VALUE=URI:https://www.kultur-hamburg.de/kurse_workshops/computer-fuer-anfaenger-121271
DESCRIPTION:
UID:f60a50656b1282cfeafdd09c73e517ca@kulturhamburg
END:VEVENT
END:VCALENDAR