BEGIN:VCALENDAR
VERSION:2.0
PRODID:-//STADTKULTUR HAMBURG//kultur-hamburg.de///DE
CALSCALE:GREGORIAN
BEGIN:VEVENT
X-WR-TIMEZONE:Europe/Berlin
DTSTART:20130826T174500
DTEND:20130826T194500
LOCATION:Bramfelder Kulturladen e. V. - BRAKULA \, Bramfelder Chaussee 265 \, 22177 Hamburg
DTSTAMP:20260425T142635
SUMMARY:Computer für Anfänger
URL;VALUE=URI:https://www.kultur-hamburg.de/kurse_workshops/computer-fuer-anfaenger-121272
DESCRIPTION:
UID:ec6149bb1c5ef16596ccc97fa1db27fa@kulturhamburg
END:VEVENT
END:VCALENDAR