BEGIN:VCALENDAR
VERSION:2.0
PRODID:-//STADTKULTUR HAMBURG//kultur-hamburg.de///DE
CALSCALE:GREGORIAN
BEGIN:VEVENT
X-WR-TIMEZONE:Europe/Berlin
DTSTART:20130902T174500
DTEND:20130902T194500
LOCATION:Bramfelder Kulturladen e. V. - BRAKULA \, Bramfelder Chaussee 265 \, 22177 Hamburg
DTSTAMP:20260423T120143
SUMMARY:Computer für Anfänger
URL;VALUE=URI:https://www.kultur-hamburg.de/kurse_workshops/computer-fuer-anfaenger-121273
DESCRIPTION:
UID:a3a2ea48a3336504bd87707cb58003a1@kulturhamburg
END:VEVENT
END:VCALENDAR