BEGIN:VCALENDAR
VERSION:2.0
PRODID:-//STADTKULTUR HAMBURG//kultur-hamburg.de///DE
CALSCALE:GREGORIAN
BEGIN:VEVENT
X-WR-TIMEZONE:Europe/Berlin
DTSTART:20130916T174500
DTEND:20130916T194500
LOCATION:Bramfelder Kulturladen e. V. - BRAKULA \, Bramfelder Chaussee 265 \, 22177 Hamburg
DTSTAMP:20260423T091818
SUMMARY:Computer für Anfänger
URL;VALUE=URI:https://www.kultur-hamburg.de/kurse_workshops/computer-fuer-anfaenger-121275
DESCRIPTION:
UID:4953c6555af261fe2a0e6c53edbaf9a4@kulturhamburg
END:VEVENT
END:VCALENDAR