BEGIN:VCALENDAR
VERSION:2.0
PRODID:-//STADTKULTUR HAMBURG//kultur-hamburg.de///DE
CALSCALE:GREGORIAN
BEGIN:VEVENT
X-WR-TIMEZONE:Europe/Berlin
DTSTART:20130911T154500
DTEND:20130911T171500
LOCATION:Backstube Fuhlsbüttel e.V. \, Am Hasenberge 48 \, 22337 Hamburg
DTSTAMP:20260423T103743
SUMMARY:Italienisch V für NEU-Anfänger mit Francesca Farinella
URL;VALUE=URI:https://www.kultur-hamburg.de/kurse_workshops/italienisch-v-fuer-neu-anfaenger-mit-francesca-farinella-121984
DESCRIPTION:
UID:fe7b9e7958135635f127c16eaa37e799@kulturhamburg
END:VEVENT
END:VCALENDAR