BEGIN:VCALENDAR
VERSION:2.0
PRODID:-//STADTKULTUR HAMBURG//kultur-hamburg.de///DE
CALSCALE:GREGORIAN
BEGIN:VEVENT
X-WR-TIMEZONE:Europe/Berlin
DTSTART:20131016T154500
DTEND:20131016T171500
LOCATION:Backstube Fuhlsbüttel e.V. \, Am Hasenberge 48 \, 22337 Hamburg
DTSTAMP:20260423T015813
SUMMARY:Italienisch V für NEU-Anfänger mit Francesca Farinella
URL;VALUE=URI:https://www.kultur-hamburg.de/kurse_workshops/italienisch-v-fuer-neu-anfaenger-mit-francesca-farinella-121989
DESCRIPTION:
UID:1720a659ae2ca89729f3eb3b9beefd8d@kulturhamburg
END:VEVENT
END:VCALENDAR