BEGIN:VCALENDAR
VERSION:2.0
PRODID:-//STADTKULTUR HAMBURG//kultur-hamburg.de///DE
CALSCALE:GREGORIAN
BEGIN:VEVENT
X-WR-TIMEZONE:Europe/Berlin
DTSTART:20131023T154500
DTEND:20131023T171500
LOCATION:Backstube Fuhlsbüttel e.V. \, Am Hasenberge 48 \, 22337 Hamburg
DTSTAMP:20260423T001833
SUMMARY:Italienisch V für NEU-Anfänger mit Francesca Farinella
URL;VALUE=URI:https://www.kultur-hamburg.de/kurse_workshops/italienisch-v-fuer-neu-anfaenger-mit-francesca-farinella-121990
DESCRIPTION:
UID:f2e5e48d72c8079f18a5701c39b0104b@kulturhamburg
END:VEVENT
END:VCALENDAR