BEGIN:VCALENDAR
VERSION:2.0
PRODID:-//STADTKULTUR HAMBURG//kultur-hamburg.de///DE
CALSCALE:GREGORIAN
BEGIN:VEVENT
X-WR-TIMEZONE:Europe/Berlin
DTSTART:20131211T154500
DTEND:20131211T171500
LOCATION:Backstube Fuhlsbüttel e.V. \, Am Hasenberge 48 \, 22337 Hamburg
DTSTAMP:20260422T124255
SUMMARY:Italienisch V für NEU-Anfänger mit Francesca Farinella
URL;VALUE=URI:https://www.kultur-hamburg.de/kurse_workshops/italienisch-v-fuer-neu-anfaenger-mit-francesca-farinella-121997
DESCRIPTION:
UID:63178ab7635f4e09b3aa0a5d6f386667@kulturhamburg
END:VEVENT
END:VCALENDAR