BEGIN:VCALENDAR
VERSION:2.0
PRODID:-//STADTKULTUR HAMBURG//kultur-hamburg.de///DE
CALSCALE:GREGORIAN
BEGIN:VEVENT
X-WR-TIMEZONE:Europe/Berlin
DTSTART:20140101T154500
DTEND:20140101T171500
LOCATION:Backstube Fuhlsbüttel e.V. \, Am Hasenberge 48 \, 22337 Hamburg
DTSTAMP:20260420T081009
SUMMARY:Italienisch V für NEU-Anfänger mit Francesca Farinella
URL;VALUE=URI:https://www.kultur-hamburg.de/kurse_workshops/italienisch-v-fuer-neu-anfaenger-mit-francesca-farinella-122000
DESCRIPTION:
UID:280a867bddd4f9215dfcc3262c1c8c23@kulturhamburg
END:VEVENT
END:VCALENDAR