BEGIN:VCALENDAR
VERSION:2.0
PRODID:-//STADTKULTUR HAMBURG//kultur-hamburg.de///DE
CALSCALE:GREGORIAN
BEGIN:VEVENT
X-WR-TIMEZONE:Europe/Berlin
DTSTART:20130918T183000
DTEND:20130918T200000
LOCATION:TASK Schauspielschule für Kinder und Jugendliche \, Stresemannstraße 163 (Neue Flora) \, 22769 Hamburg
DTSTAMP:20260423T092421
SUMMARY:Kostenlose Schauspiel-Schnupperstunde für Kinder & Jugendliche  - TASK Schauspielschule
URL;VALUE=URI:https://www.kultur-hamburg.de/kurse_workshops/kostenlose-schauspiel-schnupperstunde-fuer-kinder-&-jugendliche-task-schauspielschule-124477
DESCRIPTION:Hier können Kinder & Jugendliche kostenfrei Schauspiel-Luft schnuppern - und bleiben vielleicht dabei...
UID:ffd0004fe385df717dc874c2275239b4@kulturhamburg
END:VEVENT
END:VCALENDAR