BEGIN:VCALENDAR
VERSION:2.0
PRODID:-//STADTKULTUR HAMBURG//kultur-hamburg.de///DE
CALSCALE:GREGORIAN
BEGIN:VEVENT
X-WR-TIMEZONE:Europe/Berlin
DTSTART:20131113T100000
DTEND:20131113T113000
LOCATION:Bramfelder Kulturladen e. V. - BRAKULA \, Bramfelder Chaussee 265 \, 22177 Hamburg
DTSTAMP:20260422T190805
SUMMARY:Seniorenzirkus
URL;VALUE=URI:https://www.kultur-hamburg.de/kurse_workshops/seniorenzirkus-124716
DESCRIPTION:
UID:a1df6530bd4e7fb2b0d5731ebce81edb@kulturhamburg
END:VEVENT
END:VCALENDAR