BEGIN:VCALENDAR
VERSION:2.0
PRODID:-//STADTKULTUR HAMBURG//kultur-hamburg.de///DE
CALSCALE:GREGORIAN
BEGIN:VEVENT
X-WR-TIMEZONE:Europe/Berlin
DTSTART:20131120T100000
DTEND:20131120T113000
LOCATION:Bramfelder Kulturladen e. V. - BRAKULA \, Bramfelder Chaussee 265 \, 22177 Hamburg
DTSTAMP:20260422T174130
SUMMARY:Seniorenzirkus
URL;VALUE=URI:https://www.kultur-hamburg.de/kurse_workshops/seniorenzirkus-124717
DESCRIPTION:
UID:706da4f18e7c510353a720b28dd395e4@kulturhamburg
END:VEVENT
END:VCALENDAR