BEGIN:VCALENDAR
VERSION:2.0
PRODID:-//STADTKULTUR HAMBURG//kultur-hamburg.de///DE
CALSCALE:GREGORIAN
BEGIN:VEVENT
X-WR-TIMEZONE:Europe/Berlin
DTSTART:20131127T100000
DTEND:20131127T113000
LOCATION:Bramfelder Kulturladen e. V. - BRAKULA \, Bramfelder Chaussee 265 \, 22177 Hamburg
DTSTAMP:20260422T154746
SUMMARY:Seniorenzirkus
URL;VALUE=URI:https://www.kultur-hamburg.de/kurse_workshops/seniorenzirkus-124718
DESCRIPTION:
UID:de23c0b5552d8b04cecebced6875b34c@kulturhamburg
END:VEVENT
END:VCALENDAR