BEGIN:VCALENDAR
VERSION:2.0
PRODID:-//STADTKULTUR HAMBURG//kultur-hamburg.de///DE
CALSCALE:GREGORIAN
BEGIN:VEVENT
X-WR-TIMEZONE:Europe/Berlin
DTSTART:20131204T100000
DTEND:20131204T113000
LOCATION:Bramfelder Kulturladen e. V. - BRAKULA \, Bramfelder Chaussee 265 \, 22177 Hamburg
DTSTAMP:20260422T141533
SUMMARY:Seniorenzirkus
URL;VALUE=URI:https://www.kultur-hamburg.de/kurse_workshops/seniorenzirkus-124719
DESCRIPTION:
UID:8339bbfc9f9ec4eb04d2e5d245f246e0@kulturhamburg
END:VEVENT
END:VCALENDAR