BEGIN:VCALENDAR
VERSION:2.0
PRODID:-//STADTKULTUR HAMBURG//kultur-hamburg.de///DE
CALSCALE:GREGORIAN
BEGIN:VEVENT
X-WR-TIMEZONE:Europe/Berlin
DTSTART:20131023T193000
DTEND:20131023T213000
LOCATION:Bramfelder Kulturladen e. V. - BRAKULA \, Bramfelder Chaussee 265 \, 22177 Hamburg
DTSTAMP:20260423T001954
SUMMARY:Zeichnen macht Spaß - Grundlagenkurs
URL;VALUE=URI:https://www.kultur-hamburg.de/kurse_workshops/zeichnen-macht-spass-grundlagenkurs-126357
DESCRIPTION:
UID:52219f92db2375c56e083248f6628b0c@kulturhamburg
END:VEVENT
END:VCALENDAR