BEGIN:VCALENDAR
VERSION:2.0
PRODID:-//STADTKULTUR HAMBURG//kultur-hamburg.de///DE
CALSCALE:GREGORIAN
BEGIN:VEVENT
X-WR-TIMEZONE:Europe/Berlin
DTSTART:20131030T193000
DTEND:20131030T213000
LOCATION:Bramfelder Kulturladen e. V. - BRAKULA \, Bramfelder Chaussee 265 \, 22177 Hamburg
DTSTAMP:20260422T222636
SUMMARY:Zeichnen macht Spaß - Grundlagenkurs
URL;VALUE=URI:https://www.kultur-hamburg.de/kurse_workshops/zeichnen-macht-spass-grundlagenkurs-126358
DESCRIPTION:
UID:1a288be0a96fc5737474d0cb4ca4e6b8@kulturhamburg
END:VEVENT
END:VCALENDAR