BEGIN:VCALENDAR
VERSION:2.0
PRODID:-//STADTKULTUR HAMBURG//kultur-hamburg.de///DE
CALSCALE:GREGORIAN
BEGIN:VEVENT
X-WR-TIMEZONE:Europe/Berlin
DTSTART:20131120T200000
DTEND:20131120T213000
LOCATION:Bramfelder Kulturladen e. V. - BRAKULA \, Bramfelder Chaussee 265 \, 22177 Hamburg
DTSTAMP:20260422T173252
SUMMARY:Zeichnen macht Spaß - Grundlagenkurs
URL;VALUE=URI:https://www.kultur-hamburg.de/kurse_workshops/zeichnen-macht-spass-grundlagenkurs-126361
DESCRIPTION:
UID:0ce251a2ef6948a7c3716f2b990b48ac@kulturhamburg
END:VEVENT
END:VCALENDAR