BEGIN:VCALENDAR
VERSION:2.0
PRODID:-//STADTKULTUR HAMBURG//kultur-hamburg.de///DE
CALSCALE:GREGORIAN
BEGIN:VEVENT
X-WR-TIMEZONE:Europe/Berlin
DTSTART:20131127T193000
DTEND:20131127T213000
LOCATION:Bramfelder Kulturladen e. V. - BRAKULA \, Bramfelder Chaussee 265 \, 22177 Hamburg
DTSTAMP:20260422T154658
SUMMARY:Zeichnen macht Spaß - Grundlagenkurs
URL;VALUE=URI:https://www.kultur-hamburg.de/kurse_workshops/zeichnen-macht-spass-grundlagenkurs-126362
DESCRIPTION:
UID:9aba969d9cec5ca97785fe4db6723cdf@kulturhamburg
END:VEVENT
END:VCALENDAR