BEGIN:VCALENDAR
VERSION:2.0
PRODID:-//STADTKULTUR HAMBURG//kultur-hamburg.de///DE
CALSCALE:GREGORIAN
BEGIN:VEVENT
X-WR-TIMEZONE:Europe/Berlin
DTSTART:20131211T193000
DTEND:20131211T213000
LOCATION:Bramfelder Kulturladen e. V. - BRAKULA \, Bramfelder Chaussee 265 \, 22177 Hamburg
DTSTAMP:20260422T124407
SUMMARY:Zeichnen macht Spaß - Grundlagenkurs
URL;VALUE=URI:https://www.kultur-hamburg.de/kurse_workshops/zeichnen-macht-spass-grundlagenkurs-126364
DESCRIPTION:
UID:0ced532aaa8ed2e905cc53c074b62feb@kulturhamburg
END:VEVENT
END:VCALENDAR