BEGIN:VCALENDAR
VERSION:2.0
PRODID:-//STADTKULTUR HAMBURG//kultur-hamburg.de///DE
CALSCALE:GREGORIAN
BEGIN:VEVENT
X-WR-TIMEZONE:Europe/Berlin
DTSTART:20130930T100000
DTEND:20131001T150000
LOCATION:Ev. Familienbildung Eppendorf \, Loogeplatz 14/16 \, 20249 Hamburg
DTSTAMP:20260423T053014
SUMMARY:Ein Nähkurs in den Herbstferien für Mädchen und Jungen von 12 - 14 Jahren
URL;VALUE=URI:https://www.kultur-hamburg.de/kurse_workshops/ein-naehkurs-in-den-herbstferien-fuer-maedchen-und-jungen-von-12-14-jahren-127501
DESCRIPTION:Shirts, kurze glockige Röcke oder einfache Shorts sind nur Beispiele für ein leicht zu nähendes Teil. Wenn ihr Spaß am Nähen habt, ist euer Teil in zwei Tagen fertig und der Start in den Herbst perfekt.
UID:6fb013543ee1288a830cc2a0152cf6c7@kulturhamburg
END:VEVENT
END:VCALENDAR