BEGIN:VCALENDAR
VERSION:2.0
PRODID:-//STADTKULTUR HAMBURG//kultur-hamburg.de///DE
CALSCALE:GREGORIAN
BEGIN:VEVENT
X-WR-TIMEZONE:Europe/Berlin
DTSTART:20131007T110000
DTEND:20131009T150000
LOCATION:TASK Schauspielschule für Kinder und Jugendliche \, Stresemannstraße 163 (Neue Flora) \, 22769 Hamburg
DTSTAMP:20260423T033952
SUMMARY:Ferien-Theater-Workshop "Helden" - ab 14 J. - TASK Schauspielschule
URL;VALUE=URI:https://www.kultur-hamburg.de/kurse_workshops/ferien-theater-workshop-helden-ab-14-j.-task-schauspielschule-128611
DESCRIPTION:In diesem Workshop erforscht der Kurs die Geheimnisse der Film- und Romanhelden und entwickelt ein kl. Theaterstück zum Thema. Am Ende heißt es: Ab auf die Bühne und Vorhang auf!
UID:1a2ee30575f89601172736fa9f9125b8@kulturhamburg
END:VEVENT
END:VCALENDAR