BEGIN:VCALENDAR
VERSION:2.0
PRODID:-//STADTKULTUR HAMBURG//kultur-hamburg.de///DE
CALSCALE:GREGORIAN
BEGIN:VEVENT
X-WR-TIMEZONE:Europe/Berlin
DTSTART:20131222T190000
DTEND:20131222T210000
LOCATION:Lenzsiedlung e.V. \, Julius-Vosseler-Straße 193 \, 22527 Hamburg
DTSTAMP:20260422T111305
SUMMARY:Boxtraining
URL;VALUE=URI:https://www.kultur-hamburg.de/kurse_workshops/boxtraining-128643
DESCRIPTION:Fitnessboxen für Erwachsene von Frischling bis Alter Hase
UID:bedcc7402f510fa4cda3b93e1a933034@kulturhamburg
END:VEVENT
END:VCALENDAR