BEGIN:VCALENDAR
VERSION:2.0
PRODID:-//STADTKULTUR HAMBURG//kultur-hamburg.de///DE
CALSCALE:GREGORIAN
BEGIN:VEVENT
X-WR-TIMEZONE:Europe/Berlin
DTSTART:20140105T190000
DTEND:20140105T210000
LOCATION:Lenzsiedlung e.V. \, Julius-Vosseler-Straße 193 \, 22527 Hamburg
DTSTAMP:20260420T081019
SUMMARY:Boxtraining
URL;VALUE=URI:https://www.kultur-hamburg.de/kurse_workshops/boxtraining-128645
DESCRIPTION:Fitnessboxen für Erwachsene von Frischling bis Alter Hase
UID:a7b41081c2b315ba007d779cd9abc2cb@kulturhamburg
END:VEVENT
END:VCALENDAR