BEGIN:VCALENDAR
VERSION:2.0
PRODID:-//STADTKULTUR HAMBURG//kultur-hamburg.de///DE
CALSCALE:GREGORIAN
BEGIN:VEVENT
X-WR-TIMEZONE:Europe/Berlin
DTSTART:20140112T190000
DTEND:20140112T210000
LOCATION:Lenzsiedlung e.V. \, Julius-Vosseler-Straße 193 \, 22527 Hamburg
DTSTAMP:20260420T095748
SUMMARY:Boxtraining
URL;VALUE=URI:https://www.kultur-hamburg.de/kurse_workshops/boxtraining-128646
DESCRIPTION:Fitnessboxen für Erwachsene von Frischling bis Alter Hase
UID:e520984cc4436ea0baf0814f0eacb677@kulturhamburg
END:VEVENT
END:VCALENDAR