BEGIN:VCALENDAR
VERSION:2.0
PRODID:-//STADTKULTUR HAMBURG//kultur-hamburg.de///DE
CALSCALE:GREGORIAN
BEGIN:VEVENT
X-WR-TIMEZONE:Europe/Berlin
DTSTART:20131029T153000
DTEND:20131029T173000
LOCATION:Ev. Familienbildung Niendorf-Lokstedt \, Lippertsche Villa/ Garstedter Weg 9 \, 22453 Hamburg
DTSTAMP:20260422T222635
SUMMARY:Laterne, Laterne
URL;VALUE=URI:https://www.kultur-hamburg.de/kurse_workshops/laterne-laterne-128794
DESCRIPTION:Für Eltern und Kinder ab 3 Jahren
Wir basteln unsere Laterne für den Laternenumzug, singen Lieder und
hören die Martinsgeschichte.
UID:67b9704e227b807c552de1da6befeed6@kulturhamburg
END:VEVENT
END:VCALENDAR