BEGIN:VCALENDAR
VERSION:2.0
PRODID:-//STADTKULTUR HAMBURG//kultur-hamburg.de///DE
CALSCALE:GREGORIAN
BEGIN:VEVENT
X-WR-TIMEZONE:Europe/Berlin
DTSTART:20140201T100000
DTEND:20140201T170000
LOCATION:KulturWerkstatt Harburg e.V. \, Kanalplatz 6 \, 21079 Hamburg
DTSTAMP:20260422T141326
SUMMARY:Acoustic Guitar Workshop mit Zane Charron am 1. + 2. Februar 2014
URL;VALUE=URI:https://www.kultur-hamburg.de/kurse_workshops/acoustic-guitar-workshop-mit-zane-charron-am-1.--2.-februar-2014-130680
DESCRIPTION:
UID:31d2ecea72833474e49fab01c9805471@kulturhamburg
END:VEVENT
END:VCALENDAR