BEGIN:VCALENDAR
VERSION:2.0
PRODID:-//STADTKULTUR HAMBURG//kultur-hamburg.de///DE
CALSCALE:GREGORIAN
BEGIN:VEVENT
X-WR-TIMEZONE:Europe/Berlin
DTSTART:20140109T170000
DTEND:20140109T180000
LOCATION:Bramfelder Kulturladen e. V. - BRAKULA \, Bramfelder Chaussee 265 \, 22177 Hamburg
DTSTAMP:20260420T095748
SUMMARY:Gesunder Rücken
URL;VALUE=URI:https://www.kultur-hamburg.de/kurse_workshops/gesunder-ruecken-130950
DESCRIPTION:Ideale Rückengymnastik und Stretching.
Eine Entspannung rundet die Stunde angenehm ab.
Kursleitung: Mirja Fahs (Entspannungspädagogin)
UID:a8031972053c65a2a4097ffce254ed8d@kulturhamburg
END:VEVENT
END:VCALENDAR