BEGIN:VCALENDAR
VERSION:2.0
PRODID:-//STADTKULTUR HAMBURG//kultur-hamburg.de///DE
CALSCALE:GREGORIAN
BEGIN:VEVENT
X-WR-TIMEZONE:Europe/Berlin
DTSTART:20140116T170000
DTEND:20140116T180000
LOCATION:Bramfelder Kulturladen e. V. - BRAKULA \, Bramfelder Chaussee 265 \, 22177 Hamburg
DTSTAMP:20260422T110523
SUMMARY:Gesunder Rücken
URL;VALUE=URI:https://www.kultur-hamburg.de/kurse_workshops/gesunder-ruecken-130951
DESCRIPTION:Ideale Rückengymnastik und Stretching.
Eine Entspannung rundet die Stunde angenehm ab.
Kursleitung: Mirja Fahs (Entspannungspädagogin)
UID:086c9821bcbd48a29c576edc7efca749@kulturhamburg
END:VEVENT
END:VCALENDAR