BEGIN:VCALENDAR
VERSION:2.0
PRODID:-//STADTKULTUR HAMBURG//kultur-hamburg.de///DE
CALSCALE:GREGORIAN
BEGIN:VEVENT
X-WR-TIMEZONE:Europe/Berlin
DTSTART:20140206T170000
DTEND:20140206T180000
LOCATION:Bramfelder Kulturladen e. V. - BRAKULA \, Bramfelder Chaussee 265 \, 22177 Hamburg
DTSTAMP:20260422T154827
SUMMARY:Gesunder Rücken
URL;VALUE=URI:https://www.kultur-hamburg.de/kurse_workshops/gesunder-ruecken-130954
DESCRIPTION:Ideale Rückengymnastik und Stretching.
Eine Entspannung rundet die Stunde angenehm ab.
Kursleitung: Mirja Fahs (Entspannungspädagogin)
UID:70a3736d2156e1e9c8269c7be6287593@kulturhamburg
END:VEVENT
END:VCALENDAR