BEGIN:VCALENDAR
VERSION:2.0
PRODID:-//STADTKULTUR HAMBURG//kultur-hamburg.de///DE
CALSCALE:GREGORIAN
BEGIN:VEVENT
X-WR-TIMEZONE:Europe/Berlin
DTSTART:20140213T170000
DTEND:20140213T180000
LOCATION:Bramfelder Kulturladen e. V. - BRAKULA \, Bramfelder Chaussee 265 \, 22177 Hamburg
DTSTAMP:20260422T173331
SUMMARY:Gesunder Rücken
URL;VALUE=URI:https://www.kultur-hamburg.de/kurse_workshops/gesunder-ruecken-130955
DESCRIPTION:Ideale Rückengymnastik und Stretching.
Eine Entspannung rundet die Stunde angenehm ab.
Kursleitung: Mirja Fahs (Entspannungspädagogin)
UID:8580f60816e6d32b115fd4e53ce0c7ae@kulturhamburg
END:VEVENT
END:VCALENDAR