BEGIN:VCALENDAR
VERSION:2.0
PRODID:-//STADTKULTUR HAMBURG//kultur-hamburg.de///DE
CALSCALE:GREGORIAN
BEGIN:VEVENT
X-WR-TIMEZONE:Europe/Berlin
DTSTART:20140410T170000
DTEND:20140410T180000
LOCATION:Bramfelder Kulturladen e. V. - BRAKULA \, Bramfelder Chaussee 265 \, 22177 Hamburg
DTSTAMP:20260423T072116
SUMMARY:Gesunder Rücken
URL;VALUE=URI:https://www.kultur-hamburg.de/kurse_workshops/gesunder-ruecken-130963
DESCRIPTION:Ideale Rückengymnastik und Stretching.
Eine Entspannung rundet die Stunde angenehm ab.
Kursleitung: Mirja Fahs (Entspannungspädagogin)
UID:c5c1d31ca2ecf334adbb4eb589170409@kulturhamburg
END:VEVENT
END:VCALENDAR