BEGIN:VCALENDAR
VERSION:2.0
PRODID:-//STADTKULTUR HAMBURG//kultur-hamburg.de///DE
CALSCALE:GREGORIAN
BEGIN:VEVENT
X-WR-TIMEZONE:Europe/Berlin
DTSTART:20131126T154500
DTEND:20131210T180000
LOCATION:Ev. Familienbildung Niendorf-Lokstedt \, Lippertsche Villa/ Garstedter Weg 9 \, 22453 Hamburg
DTSTAMP:20260422T160344
SUMMARY:Weihnachtliches für Eltern und Kinder von 3 — 10 Jahren
URL;VALUE=URI:https://www.kultur-hamburg.de/kurse_workshops/weihnachtliches-fuer-eltern-und-kinder-von-3-oe-10-jahren-133085
DESCRIPTION:Adventsrunde! Lieder, Geschichten und Basteleien zum Advent.
UID:cadf65f162a4d68ccdf32440eac6d1e9@kulturhamburg
END:VEVENT
END:VCALENDAR