BEGIN:VCALENDAR
VERSION:2.0
PRODID:-//STADTKULTUR HAMBURG//kultur-hamburg.de///DE
CALSCALE:GREGORIAN
BEGIN:VEVENT
X-WR-TIMEZONE:Europe/Berlin
DTSTART:20130925T163000
DTEND:20130925T173000
LOCATION:Bramfelder Kulturladen e. V. - BRAKULA \, Bramfelder Chaussee 265 \, 22177 Hamburg
DTSTAMP:20260423T072056
SUMMARY:Gitarre für Anfänger
URL;VALUE=URI:https://www.kultur-hamburg.de/kurse_workshops/gitarre-fuer-anfaenger-134887
DESCRIPTION:
UID:cea415bd1cf47e3a5c190a7f49725421@kulturhamburg
END:VEVENT
END:VCALENDAR