BEGIN:VCALENDAR
VERSION:2.0
PRODID:-//STADTKULTUR HAMBURG//kultur-hamburg.de///DE
CALSCALE:GREGORIAN
BEGIN:VEVENT
X-WR-TIMEZONE:Europe/Berlin
DTSTART:20131016T163000
DTEND:20131016T173000
LOCATION:Bramfelder Kulturladen e. V. - BRAKULA \, Bramfelder Chaussee 265 \, 22177 Hamburg
DTSTAMP:20260423T015752
SUMMARY:Gitarre für Anfänger
URL;VALUE=URI:https://www.kultur-hamburg.de/kurse_workshops/gitarre-fuer-anfaenger-134890
DESCRIPTION:
UID:1c5d864e0a562ceaf33223d7c0703c47@kulturhamburg
END:VEVENT
END:VCALENDAR