BEGIN:VCALENDAR
VERSION:2.0
PRODID:-//STADTKULTUR HAMBURG//kultur-hamburg.de///DE
CALSCALE:GREGORIAN
BEGIN:VEVENT
X-WR-TIMEZONE:Europe/Berlin
DTSTART:20131023T163000
DTEND:20131023T173000
LOCATION:Bramfelder Kulturladen e. V. - BRAKULA \, Bramfelder Chaussee 265 \, 22177 Hamburg
DTSTAMP:20260423T001955
SUMMARY:Gitarre für Anfänger
URL;VALUE=URI:https://www.kultur-hamburg.de/kurse_workshops/gitarre-fuer-anfaenger-134891
DESCRIPTION:
UID:071f6d57c480397e68f6cfb4c574a65d@kulturhamburg
END:VEVENT
END:VCALENDAR