BEGIN:VCALENDAR
VERSION:2.0
PRODID:-//STADTKULTUR HAMBURG//kultur-hamburg.de///DE
CALSCALE:GREGORIAN
BEGIN:VEVENT
X-WR-TIMEZONE:Europe/Berlin
DTSTART:20131030T163000
DTEND:20131030T173000
LOCATION:Bramfelder Kulturladen e. V. - BRAKULA \, Bramfelder Chaussee 265 \, 22177 Hamburg
DTSTAMP:20260422T222641
SUMMARY:Gitarre für Anfänger
URL;VALUE=URI:https://www.kultur-hamburg.de/kurse_workshops/gitarre-fuer-anfaenger-134892
DESCRIPTION:
UID:8fcfa11b07b1d4862e85a4378913073b@kulturhamburg
END:VEVENT
END:VCALENDAR